BEGIN:VCALENDAR
VERSION:2.0
PRODID:DPCALENDAR
CALSCALE:GREGORIAN
BEGIN:VTIMEZONE
TZID:Europe/Copenhagen
BEGIN:STANDARD
DTSTART:20251026T010000
TZOFFSETFROM:+0200
TZOFFSETTO:+0100
TZNAME:CET
END:STANDARD
BEGIN:STANDARD
DTSTART:20261025T010000
TZOFFSETFROM:+0200
TZOFFSETTO:+0100
TZNAME:CET
END:STANDARD
BEGIN:DAYLIGHT
DTSTART:20260329T010000
TZOFFSETFROM:+0100
TZOFFSETTO:+0200
TZNAME:CEST
END:DAYLIGHT
END:VTIMEZONE
X-WR-TIMEZONE:Europe/Copenhagen
BEGIN:VEVENT
DTSTART;TZID=Europe/Copenhagen:20190318T193000
DTEND;TZID=Europe/Copenhagen:20190318T220000
UID:660B74AF-4C98-4847-883A-14A2F660516C
SUMMARY:Generalforsamling Grejs Vandværk
CREATED:20190219T071608Z
DTSTAMP:20190219T071608Z
URL:https://mail.grejs.dk/component/dpcalendar/event/167?calid=30
X-ACCESS:1
X-HITS:640
X-COLOR:3366cc
X-SHOW-END-TIME:1
END:VEVENT
BEGIN:VEVENT
DTSTART;TZID=Europe/Copenhagen:20200622T193000
DTEND;TZID=Europe/Copenhagen:20200622T223000
UID:67891850-2AD1-461B-880E-976843E9989D
SUMMARY:Generalforsamling i Vandværket
CREATED:20200609T203216Z
DTSTAMP:20200609T203216Z
LAST-MODIFIED:20200609T203241Z
SEQUENCE:25
URL:https://mail.grejs.dk/component/dpcalendar/event/392?calid=30
X-ACCESS:1
X-HITS:471
X-COLOR:3366cc
X-SHOW-END-TIME:0
END:VEVENT
BEGIN:VEVENT
DTSTART;TZID=Europe/Copenhagen:20210608T193000
DTEND;TZID=Europe/Copenhagen:20210608T220000
UID:80F40042-2F64-440A-9030-9A79EEE25FFE
SUMMARY:Generalforsamling, Grejs Vandværk, Kulturcentret
CREATED:20190219T061608Z
DTSTAMP:20190219T061608Z
DESCRIPTION:Generalforsamling 2021 i Grejs Vandværk. Nærmere info følger\NVar oprindelig planlagt til 20. april, men er udskudt grundet Corona og forsamlingsforbud.
X-ALT-DESC;FMTTYPE=text/html:Generalforsamling 2021 i Grejs Vandværk. Nærmere info følgerVar oprindelig planlagt til 20. april, men er udskudt grundet Corona og forsamlingsforbud.
LAST-MODIFIED:20210322T212856Z
SEQUENCE:65891568
URL:https://mail.grejs.dk/component/dpcalendar/event/512?calid=30
X-ACCESS:1
X-HITS:603
X-COLOR:3366cc
X-SHOW-END-TIME:1
END:VEVENT
BEGIN:VEVENT
DTSTART;TZID=Europe/Copenhagen:20220321T193000
DTEND;TZID=Europe/Copenhagen:20220321T220000
UID:904D8EE3-10E6-41F8-A6FB-1C8BC0900C59
SUMMARY:Generalforsamling, Grejs Vandværk
CREATED:20220228T164118Z
DTSTAMP:20220228T164118Z
DESCRIPTION:Ordinær generalforsamling i Grejs Vandværk afholdes i Grejs Kulturcenter, Lokale Nord. Alle er velkomne. Tilmelding ikke nødvendig. Der serveres smørrebrød, øl/vand, snabs og kaffe\Nmvh Bestyrelsen
X-ALT-DESC;FMTTYPE=text/html:Ordinær generalforsamling i Grejs Vandværk afholdes i Grejs Kulturcenter, Lokale Nord. Alle er velkomne. Tilmelding ikke nødvendig. Der serveres smørrebrød, øl/vand, snabs og kaffemvh Bestyrelsen
LAST-MODIFIED:20220228T164235Z
SEQUENCE:77
URL:https://mail.grejs.dk/component/dpcalendar/event/694?calid=30
X-ACCESS:1
X-HITS:546
X-COLOR:3366cc
X-SHOW-END-TIME:1
END:VEVENT
BEGIN:VEVENT
DTSTART;TZID=Europe/Copenhagen:20230328T190000
DTEND;TZID=Europe/Copenhagen:20230328T213000
UID:E298902B-37D4-41B5-8CDD-265AF25667E3
SUMMARY:Generalforsamling, Grejs Vandværk - afholdes i Grejs Kulturcenter
CREATED:20221223T092903Z
DTSTAMP:20221223T092903Z
DESCRIPTION:Dagsorden annonceres i Ugeavisen Vejle og på www.grejsvand.dk senest 14 dage før
X-ALT-DESC;FMTTYPE=text/html:Dagsorden annonceres i Ugeavisen Vejle og på www.grejsvand.dk senest 14 dage før
LAST-MODIFIED:20230328T134316Z
SEQUENCE:8223253
URL:https://mail.grejs.dk/component/dpcalendar/event/834?calid=30
X-ACCESS:1
X-HITS:561
X-COLOR:3366cc
X-SHOW-END-TIME:1
END:VEVENT
BEGIN:VEVENT
DTSTART;TZID=Europe/Copenhagen:20240312T190000
DTEND;TZID=Europe/Copenhagen:20240312T213000
UID:C9B8C96C-EC70-42D2-AED8-D9BF75EC79FF
SUMMARY:Generalforsamling, Grejs Vandværk - afholdes i Grejs Kulturcenter
CREATED:20231217T184041Z
DTSTAMP:20231217T184041Z
DESCRIPTION:Dagsorden annonceres i Ugeavisen Vejle og på www.grejsvand.dk senest 14 dage før
X-ALT-DESC;FMTTYPE=text/html:Dagsorden annonceres i Ugeavisen Vejle og på www.grejsvand.dk senest 14 dage før
URL:https://mail.grejs.dk/component/dpcalendar/event/1075?calid=30
X-ACCESS:1
X-HITS:314
X-COLOR:3366cc
X-SHOW-END-TIME:1
END:VEVENT
BEGIN:VEVENT
DTSTART;TZID=Europe/Copenhagen:20250311T190000
DTEND;TZID=Europe/Copenhagen:20250311T220000
UID:919B8FCC-E1BD-4A6F-8811-024C173A6AE7
SUMMARY:Generalforsamling, Grejs Vandværk - afholdes i Grejs Kulturcenter
CREATED:20250225T212727Z
DTSTAMP:20250225T212727Z
DESCRIPTION:Dagsorden annonceres i Ugeavisen Vejle senest 14 dage før
X-ALT-DESC;FMTTYPE=text/html:Dagsorden annonceres i Ugeavisen Vejle senest 14 dage før
URL:https://mail.grejs.dk/component/dpcalendar/event/1489?calid=30
X-ACCESS:1
X-HITS:159
X-COLOR:3366cc
X-SHOW-END-TIME:1
END:VEVENT
BEGIN:VEVENT
DTSTART;TZID=Europe/Copenhagen:20260310T190000
DTEND;TZID=Europe/Copenhagen:20260310T220000
UID:503086C8-8A21-4DB5-9EBF-2561C161533A
SUMMARY:Generalforsamling i Grejs Vandværk - afholdes i Grejs Kulturcenter
CREATED:20251211T115311Z
DTSTAMP:20251211T115311Z
DESCRIPTION:Dagsorden annonceres i Ugeavisen Vejle senest 14 dage før\NTilmelding ikke nødvendig
X-ALT-DESC;FMTTYPE=text/html:Dagsorden annonceres i Ugeavisen Vejle senest 14 dage førTilmelding ikke nødvendig
URL:https://mail.grejs.dk/component/dpcalendar/event/1615?calid=30
X-ACCESS:1
X-HITS:67
X-COLOR:3366cc
X-SHOW-END-TIME:1
END:VEVENT
END:VCALENDAR