BEGIN:VCALENDAR
VERSION:2.0
PRODID:DPCALENDAR
CALSCALE:GREGORIAN
BEGIN:VTIMEZONE
TZID:Europe/Copenhagen
BEGIN:STANDARD
DTSTART:20251026T010000
TZOFFSETFROM:+0200
TZOFFSETTO:+0100
TZNAME:CET
END:STANDARD
BEGIN:STANDARD
DTSTART:20261025T010000
TZOFFSETFROM:+0200
TZOFFSETTO:+0100
TZNAME:CET
END:STANDARD
BEGIN:DAYLIGHT
DTSTART:20260329T010000
TZOFFSETFROM:+0100
TZOFFSETTO:+0200
TZNAME:CEST
END:DAYLIGHT
END:VTIMEZONE
X-WR-TIMEZONE:Europe/Copenhagen
BEGIN:VEVENT
DTSTART;TZID=Europe/Copenhagen:20181127T193000
DTEND;TZID=Europe/Copenhagen:20181127T213000
UID:BF0D5EE1-7412-4F7E-A955-599C7CC39936
SUMMARY:Grejs Friskoles venner - Informations-/hyggeaften 
CREATED:20181113T125612Z
DTSTAMP:20181113T125612Z
DESCRIPTION:Med næsten 200 børn på Grejs Friskole og det kommende kulturcenter som nærmeste nabo, fylder skolen og det liv, der er omkring den, en del i det lokale byliv. En gruppe forældre til tidligere elever på skolen har givet udtryk for, at de savner at kunne følge med i skolens udvikling og begivenhederne på og omkring skolen. Vi på skolen vil ud over at være skole gerne forankre os i lokalsamfundet og være en åben, levende kulturinstitution for alle, der interesserer sig eller ønsker at involvere sig i skolens ve og vel. Derfor tager vi nu sammen med de omtalte forældre initiativet til oprettelsen af ”Grejs Friskoles venner”. Læs mere her
X-ALT-DESC;FMTTYPE=text/html:<p>Med næsten 200 børn på Grejs Friskole og det kommende kulturcenter som nærmeste nabo, fylder skolen og det liv, der er omkring den, en del i det lokale byliv. En gruppe forældre til tidligere elever på skolen har givet udtryk for, at de savner at kunne følge med i skolens udvikling og begivenhederne på og omkring skolen. Vi på skolen vil ud over at være skole gerne forankre os i lokalsamfundet og være en åben, levende kulturinstitution for alle, der interesserer sig eller ønsker at involvere sig i skolens ve og vel. Derfor tager vi nu sammen med de omtalte forældre initiativet til oprettelsen af ”Grejs Friskoles venner”. <a href="arkiv/48-grejs-friskoles-venner">Læs mere her</a></p>
URL:https://mail.grejs.dk/component/dpcalendar/event/104?calid=33
X-ACCESS:1
X-HITS:78
X-COLOR:cc5233
X-SHOW-END-TIME:0
END:VEVENT
BEGIN:VEVENT
DTSTART;TZID=Europe/Copenhagen:20190403T190000
DTEND;TZID=Europe/Copenhagen:20190403T210000
UID:99917E2E-498F-4169-8448-3B2E66EA9B0A
SUMMARY:Generalforsamling på Grejs Friskole
CREATED:20190322T125959Z
DTSTAMP:20190322T125959Z
DESCRIPTION:Generalforsamling på Grejs Friskole
X-ALT-DESC;FMTTYPE=text/html:Generalforsamling på Grejs Friskole
LAST-MODIFIED:20190322T130036Z
SEQUENCE:37
URL:https://mail.grejs.dk/component/dpcalendar/event/178?calid=33
X-ACCESS:1
X-HITS:593
X-COLOR:cc5233
X-SHOW-END-TIME:1
END:VEVENT
BEGIN:VEVENT
DTSTART;TZID=Europe/Copenhagen:20200625T173000
DTEND;TZID=Europe/Copenhagen:20200625T203000
UID:D079826F-A4AB-4A58-B5FC-80DC81BDCB45
SUMMARY:Sommerfest på Grejs Friskole - aflyst grundet Corona
CREATED:20200218T193705Z
DTSTAMP:20200218T193705Z
DESCRIPTION:Sommerfest for ansatte, elever, forældre og søskende
X-ALT-DESC;FMTTYPE=text/html:Sommerfest for ansatte, elever, forældre og søskende
LAST-MODIFIED:20200619T144121Z
SEQUENCE:10523056
URL:https://mail.grejs.dk/component/dpcalendar/event/363?calid=33
X-ACCESS:1
X-HITS:542
X-COLOR:cc5233
X-SHOW-END-TIME:1
END:VEVENT
BEGIN:VEVENT
DTSTART;TZID=Europe/Copenhagen:20200625T190000
DTEND;TZID=Europe/Copenhagen:20200625T203000
UID:CEC46368-5DCA-419A-9CF2-432AB07C121B
SUMMARY:Translokation på Grejs Friskole - afholdes i Kulturcenteret
CREATED:20200218T193931Z
DTSTAMP:20200218T193931Z
DESCRIPTION:Translokation for 9. klasses elever og deres forældre på Grejs Friskole.
X-ALT-DESC;FMTTYPE=text/html:Translokation for 9. klasses elever og deres forældre på Grejs Friskole.
LAST-MODIFIED:20200619T145335Z
SEQUENCE:10523644
URL:https://mail.grejs.dk/component/dpcalendar/event/364?calid=33
X-ACCESS:1
X-HITS:586
X-COLOR:cc5233
X-SHOW-END-TIME:1
END:VEVENT
BEGIN:VEVENT
DTSTART;VALUE=DATE:20200905
DTEND;VALUE=DATE:20200906
UID:8F762E3A-8D1E-4B45-842F-D75B9F5379D3
SUMMARY:Arbejdslørdag på Grejs Friskole
CREATED:20200619T150847Z
DTSTAMP:20200619T150847Z
LOCATION:Nørre Bygade 18\, 7100 Grejs\, Region Syddanmark
GEO:55.76252700;9.54727400
URL:https://mail.grejs.dk/component/dpcalendar/event/402?calid=33
X-ACCESS:1
X-HITS:526
X-COLOR:cc5233
X-SHOW-END-TIME:1
END:VEVENT
BEGIN:VEVENT
DTSTART;TZID=Europe/Copenhagen:20210210T103000
DTEND;TZID=Europe/Copenhagen:20210210T120000
UID:23A0FB7D-DC67-4D03-B46D-F94A901B29F3
SUMMARY:Generalprøve på Grejs Friskoles teaterforestilling (afholdes i kulturcenteret)
CREATED:20200619T145145Z
DTSTAMP:20200619T145145Z
LAST-MODIFIED:20200619T145230Z
SEQUENCE:45
URL:https://mail.grejs.dk/component/dpcalendar/event/394?calid=33
X-ACCESS:1
X-HITS:517
X-COLOR:cc5233
X-SHOW-END-TIME:1
END:VEVENT
BEGIN:VEVENT
DTSTART;TZID=Europe/Copenhagen:20210210T180000
DTEND;TZID=Europe/Copenhagen:20210210T200000
UID:5B2F086F-0254-4EFC-8C49-5FD48F412901
SUMMARY:Teaterforestilling på Grejs Friskole (afholdes i Kulturcenteret)
CREATED:20200619T145456Z
DTSTAMP:20200619T145456Z
LAST-MODIFIED:20200619T150306Z
SEQUENCE:490
URL:https://mail.grejs.dk/component/dpcalendar/event/395?calid=33
X-ACCESS:1
X-HITS:510
X-COLOR:cc5233
X-SHOW-END-TIME:1
END:VEVENT
BEGIN:VEVENT
DTSTART;TZID=Europe/Copenhagen:20210211T180000
DTEND;TZID=Europe/Copenhagen:20210211T200000
UID:73080551-703B-4392-B15E-B9F780C39018
SUMMARY:Teaterforestilling på Grejs Friskole
CREATED:20200619T145545Z
DTSTAMP:20200619T145545Z
LAST-MODIFIED:20210210T202633Z
SEQUENCE:20410248
URL:https://mail.grejs.dk/component/dpcalendar/event/396?calid=33
X-ACCESS:1
X-HITS:514
X-COLOR:cc5233
X-SHOW-END-TIME:1
END:VEVENT
BEGIN:VEVENT
DTSTART;TZID=Europe/Copenhagen:20210310T190000
DTEND;TZID=Europe/Copenhagen:20210310T210000
UID:A69EE942-0FFF-41D2-B87A-D3C4CB7649FC
SUMMARY:Fælles forældremøde på Grejs Friskole
CREATED:20200619T145742Z
DTSTAMP:20200619T145742Z
URL:https://mail.grejs.dk/component/dpcalendar/event/397?calid=33
X-ACCESS:1
X-HITS:544
X-COLOR:cc5233
X-SHOW-END-TIME:1
END:VEVENT
BEGIN:VEVENT
DTSTART;TZID=Europe/Copenhagen:20210407T190000
DTEND;TZID=Europe/Copenhagen:20210407T210000
UID:3FD51408-020C-4338-844A-456B36022403
SUMMARY:Generalforsamling på Grejs Friskole
CREATED:20200619T145836Z
DTSTAMP:20200619T145836Z
URL:https://mail.grejs.dk/component/dpcalendar/event/398?calid=33
X-ACCESS:1
X-HITS:550
X-COLOR:cc5233
X-SHOW-END-TIME:1
END:VEVENT
BEGIN:VEVENT
DTSTART;VALUE=DATE:20210417
DTEND;VALUE=DATE:20210418
UID:8235CBC3-3747-43CF-B9F1-84BA563E9055
SUMMARY:Arbejdslørdag på Grejs Friskole
CREATED:20200619T150732Z
DTSTAMP:20200619T150732Z
URL:https://mail.grejs.dk/component/dpcalendar/event/401?calid=33
X-ACCESS:1
X-HITS:457
X-COLOR:cc5233
X-SHOW-END-TIME:1
END:VEVENT
BEGIN:VEVENT
DTSTART;TZID=Europe/Copenhagen:20210624T173000
DTEND;TZID=Europe/Copenhagen:20210624T203000
UID:AE4B7FBD-07DF-442C-91D7-8B9DF915A063
SUMMARY:Sommerfest på Grejs Friskole
CREATED:20200619T150020Z
DTSTAMP:20200619T150020Z
URL:https://mail.grejs.dk/component/dpcalendar/event/399?calid=33
X-ACCESS:1
X-HITS:434
X-COLOR:cc5233
X-SHOW-END-TIME:1
END:VEVENT
BEGIN:VEVENT
DTSTART;TZID=Europe/Copenhagen:20210625T103000
DTEND;TZID=Europe/Copenhagen:20210625T113000
UID:46948AB3-FCA9-44D2-9885-3AED3688A8DC
SUMMARY:Dimission på Grejs Friskole
CREATED:20200619T150125Z
DTSTAMP:20200619T150125Z
URL:https://mail.grejs.dk/component/dpcalendar/event/400?calid=33
X-ACCESS:1
X-HITS:409
X-COLOR:cc5233
X-SHOW-END-TIME:1
END:VEVENT
BEGIN:VEVENT
DTSTART;TZID=Europe/Copenhagen:20220209T103000
DTEND;TZID=Europe/Copenhagen:20220209T120000
UID:ACEC077E-3B51-41E5-8365-637D289E1434
SUMMARY:Generalprøve på teaterforestilling
CREATED:20210908T090440Z
DTSTAMP:20210908T090440Z
DESCRIPTION:Afholdes i Kulturcenteret
X-ALT-DESC;FMTTYPE=text/html:<p>Afholdes i Kulturcenteret</p>
LAST-MODIFIED:20220101T230908Z
SEQUENCE:9986668
URL:https://mail.grejs.dk/component/dpcalendar/event/603?calid=33
X-ACCESS:1
X-HITS:802
X-COLOR:cc5233
X-SHOW-END-TIME:1
END:VEVENT
BEGIN:VEVENT
DTSTART;TZID=Europe/Copenhagen:20220209T180000
DTEND;TZID=Europe/Copenhagen:20220209T200000
UID:1482FE86-B65A-4C00-BB31-1D93CD2F5678
SUMMARY:Teaterforestilling
CREATED:20210908T090647Z
DTSTAMP:20210908T090647Z
DESCRIPTION:(afholdes i Kulturcenteret)
X-ALT-DESC;FMTTYPE=text/html:<p>(afholdes i Kulturcenteret)</p>
LAST-MODIFIED:20211107T182819Z
SEQUENCE:5217692
URL:https://mail.grejs.dk/component/dpcalendar/event/605?calid=33
X-ACCESS:1
X-HITS:1013
X-COLOR:cc5233
X-SHOW-END-TIME:1
END:VEVENT
BEGIN:VEVENT
DTSTART;TZID=Europe/Copenhagen:20220210T103000
DTEND;TZID=Europe/Copenhagen:20220210T120000
UID:379465A0-D59E-4896-8A5B-CFBCD83449F2
SUMMARY:Generalprøve på teaterforestilling
CREATED:20210908T090536Z
DTSTAMP:20210908T090536Z
DESCRIPTION:(afholdes i Kulturcenteret)
X-ALT-DESC;FMTTYPE=text/html:<p>(afholdes i Kulturcenteret)</p>
LAST-MODIFIED:20220101T230844Z
SEQUENCE:9986588
URL:https://mail.grejs.dk/component/dpcalendar/event/604?calid=33
X-ACCESS:1
X-HITS:537
X-COLOR:cc5233
X-SHOW-END-TIME:1
END:VEVENT
BEGIN:VEVENT
DTSTART;TZID=Europe/Copenhagen:20220210T180000
DTEND;TZID=Europe/Copenhagen:20220210T200000
UID:84E87D9D-6815-4EDB-B758-CA695E0F4954
SUMMARY:Teaterforestilling
CREATED:20210908T090727Z
DTSTAMP:20210908T090727Z
DESCRIPTION:Afholdes i Kulturcenteret
X-ALT-DESC;FMTTYPE=text/html:<p>Afholdes i Kulturcenteret</p>
LAST-MODIFIED:20220118T074125Z
SEQUENCE:11399638
URL:https://mail.grejs.dk/component/dpcalendar/event/606?calid=33
X-ACCESS:1
X-HITS:480
X-COLOR:cc5233
X-SHOW-END-TIME:1
END:VEVENT
BEGIN:VEVENT
DTSTART;TZID=Europe/Copenhagen:20220309T190000
DTEND;TZID=Europe/Copenhagen:20220309T210000
UID:0D8AC679-31E8-476A-A11E-0A80C9067D01
SUMMARY:Fælles forældremøde
CREATED:20210908T090824Z
DTSTAMP:20210908T090824Z
URL:https://mail.grejs.dk/component/dpcalendar/event/607?calid=33
X-ACCESS:1
X-HITS:602
X-COLOR:cc5233
X-SHOW-END-TIME:1
END:VEVENT
BEGIN:VEVENT
DTSTART;TZID=Europe/Copenhagen:20220406T190000
DTEND;TZID=Europe/Copenhagen:20220406T210000
UID:A30B2DA1-E095-4479-ADE1-FCF96CD5DD46
SUMMARY:Generalforsamling
CREATED:20210908T090928Z
DTSTAMP:20210908T090928Z
URL:https://mail.grejs.dk/component/dpcalendar/event/608?calid=33
X-ACCESS:1
X-HITS:542
X-COLOR:cc5233
X-SHOW-END-TIME:1
END:VEVENT
BEGIN:VEVENT
DTSTART;TZID=Europe/Copenhagen:20240307T160000
DTEND;TZID=Europe/Copenhagen:20240307T170000
UID:CACD007A-64E3-4E5D-B714-E299893ADD65
SUMMARY:Møde invitation angående sikker skolevej
CREATED:20240207T224259Z
DTSTAMP:20240207T224259Z
URL:https://mail.grejs.dk/component/dpcalendar/event/1157?calid=33
X-ACCESS:1
X-HITS:304
X-COLOR:cc5233
X-SHOW-END-TIME:1
END:VEVENT
END:VCALENDAR