BEGIN:VCALENDAR
VERSION:2.0
PRODID:DPCALENDAR
CALSCALE:GREGORIAN
BEGIN:VTIMEZONE
TZID:Europe/Copenhagen
BEGIN:STANDARD
DTSTART:20251026T010000
TZOFFSETFROM:+0200
TZOFFSETTO:+0100
TZNAME:CET
END:STANDARD
BEGIN:STANDARD
DTSTART:20261025T010000
TZOFFSETFROM:+0200
TZOFFSETTO:+0100
TZNAME:CET
END:STANDARD
BEGIN:DAYLIGHT
DTSTART:20260329T010000
TZOFFSETFROM:+0100
TZOFFSETTO:+0200
TZNAME:CEST
END:DAYLIGHT
END:VTIMEZONE
X-WR-TIMEZONE:Europe/Copenhagen
BEGIN:VEVENT
DTSTART;TZID=Europe/Copenhagen:20221203T110000
DTEND;TZID=Europe/Copenhagen:20221203T140000
UID:8E877D55-352E-423B-B39D-4AE9B66B6147
SUMMARY:Juleshow i Grejs Rideklub
CREATED:20221123T113727Z
DTSTAMP:20221123T113727Z
LAST-MODIFIED:20221124T080553Z
SEQUENCE:73706
URL:https://mail.grejs.dk/component/dpcalendar/event/820?calid=45
X-ACCESS:1
X-HITS:403
X-COLOR:ff00d5
X-SHOW-END-TIME:1
END:VEVENT
END:VCALENDAR